BEGIN:VCALENDAR
VERSION:2.0
PRODID:icalendar-ruby
CALSCALE:GREGORIAN
METHOD:PUBLISH
BEGIN:VEVENT
DTSTAMP:20260421T051824Z
UID:45-1069737@stjohnscenterucc.org
DTSTART:20240901T130000Z
DTEND:20240901T140000Z
CLASS:PUBLIC
CREATED:20260420T200108
DESCRIPTION:We are studiying\, The Women of the Bible Speak by Shannon Brea
 m
LAST-MODIFIED:20260420T200108
LOCATION:
SUMMARY:LIFT (Ladies In Faith Together) Class
URL;VALUE=URI:https://www.stjohnscenterucc.org/events/lift-ladies-in-faith-
 together-class/2024-09-01
ATTACH;FILENAME=download.jfif;FMTTYPE=image/jpeg:https://dq5pwpg1q8ru0.clou
 dfront.net/2023/12/19/08/11/00/62cfb35c-6b0f-45a9-a386-4fd0b331dcb2/downlo
 ad.jfif
END:VEVENT
END:VCALENDAR
